Package: logicFS Version: 2.20.0 Command: /Library/Frameworks/R.framework/Resources/bin/R CMD build --keep-empty-dirs --no-resave-data logicFS StartedAt: 2023-10-15 19:10:47 -0400 (Sun, 15 Oct 2023) EndedAt: 2023-10-15 19:11:24 -0400 (Sun, 15 Oct 2023) EllapsedTime: 37.4 seconds RetCode: 0 Status: OK PackageFile: logicFS_2.20.0.tar.gz PackageFileSize: 260.1 KiB