Package: lipidr Version: 2.14.1 Command: rm -rf lipidr.buildbin-libdir && mkdir lipidr.buildbin-libdir && F:\biocbuild\bbs-3.17-bioc\R\bin\R.exe CMD INSTALL --build --library=lipidr.buildbin-libdir lipidr_2.14.1.tar.gz StartedAt: 2023-10-16 09:00:28 -0400 (Mon, 16 Oct 2023) EndedAt: 2023-10-16 09:01:11 -0400 (Mon, 16 Oct 2023) EllapsedTime: 43.0 seconds RetCode: 0 Status: OK PackageFile: lipidr_2.14.1.zip PackageFileSize: 2.561 MiB