Package: lipidr Version: 2.14.1 Command: rm -rf lipidr.buildbin-libdir && mkdir lipidr.buildbin-libdir && /Users/biocbuild/BBS/utils/build-universal.sh lipidr_2.14.1.tar.gz /Library/Frameworks/R.framework/Resources/bin/R lipidr.buildbin-libdir StartedAt: 2023-10-16 09:38:00 -0400 (Mon, 16 Oct 2023) EndedAt: 2023-10-16 09:39:44 -0400 (Mon, 16 Oct 2023) EllapsedTime: 104.2 seconds RetCode: 0 Status: OK PackageFile: lipidr_2.14.1.tgz PackageFileSize: 3.23 MiB