Package: lionessR Version: 1.14.0 Command: rm -rf lionessR.buildbin-libdir && mkdir lionessR.buildbin-libdir && F:\biocbuild\bbs-3.17-bioc\R\bin\R.exe CMD INSTALL --build --library=lionessR.buildbin-libdir lionessR_1.14.0.tar.gz StartedAt: 2023-10-16 09:00:26 -0400 (Mon, 16 Oct 2023) EndedAt: 2023-10-16 09:00:31 -0400 (Mon, 16 Oct 2023) EllapsedTime: 5.7 seconds RetCode: 0 Status: OK PackageFile: lionessR_1.14.0.zip PackageFileSize: 3.357 MiB