Package: lionessR Version: 1.14.0 Command: /home/biocbuild/bbs-3.17-bioc/R/bin/R CMD INSTALL lionessR StartedAt: 2023-10-15 15:12:11 -0400 (Sun, 15 Oct 2023) EndedAt: 2023-10-15 15:12:13 -0400 (Sun, 15 Oct 2023) EllapsedTime: 2.2 seconds RetCode: 0 Status: OK