Package: lionessR Version: 1.14.0 Command: /Library/Frameworks/R.framework/Resources/bin/R CMD build --keep-empty-dirs --no-resave-data lionessR StartedAt: 2023-10-15 19:10:08 -0400 (Sun, 15 Oct 2023) EndedAt: 2023-10-15 19:10:47 -0400 (Sun, 15 Oct 2023) EllapsedTime: 39.1 seconds RetCode: 0 Status: OK PackageFile: lionessR_1.14.0.tar.gz PackageFileSize: 2.828 MiB