Package: lineagespot Version: 1.4.0 Command: chmod a+r lineagespot -R && F:\biocbuild\bbs-3.17-bioc\R\bin\R.exe CMD build --keep-empty-dirs --no-resave-data lineagespot StartedAt: 2023-10-15 20:05:36 -0400 (Sun, 15 Oct 2023) EndedAt: 2023-10-15 20:06:51 -0400 (Sun, 15 Oct 2023) EllapsedTime: 75.7 seconds RetCode: 0 Status: OK PackageFile: lineagespot_1.4.0.tar.gz PackageFileSize: 718.7 KiB