Package: lineagespot Version: 1.4.0 Command: rm -rf lineagespot.buildbin-libdir && mkdir lineagespot.buildbin-libdir && F:\biocbuild\bbs-3.17-bioc\R\bin\R.exe CMD INSTALL --build --library=lineagespot.buildbin-libdir lineagespot_1.4.0.tar.gz StartedAt: 2023-10-16 09:00:19 -0400 (Mon, 16 Oct 2023) EndedAt: 2023-10-16 09:01:12 -0400 (Mon, 16 Oct 2023) EllapsedTime: 52.9 seconds RetCode: 0 Status: OK PackageFile: lineagespot_1.4.0.zip PackageFileSize: 764.7 KiB