Package: lineagespot Version: 1.4.0 Command: /home/biocbuild/bbs-3.17-bioc/R/bin/R CMD build --keep-empty-dirs --no-resave-data lineagespot StartedAt: 2023-10-15 17:15:31 -0400 (Sun, 15 Oct 2023) EndedAt: 2023-10-15 17:16:44 -0400 (Sun, 15 Oct 2023) EllapsedTime: 73.0 seconds RetCode: 0 Status: OK PackageFile: lineagespot_1.4.0.tar.gz PackageFileSize: 718.6 KiB