Package: lineagespot Version: 1.4.0 Command: /Library/Frameworks/R.framework/Resources/bin/R CMD build --keep-empty-dirs --no-resave-data lineagespot StartedAt: 2023-10-15 19:09:38 -0400 (Sun, 15 Oct 2023) EndedAt: 2023-10-15 19:12:26 -0400 (Sun, 15 Oct 2023) EllapsedTime: 168.3 seconds RetCode: 0 Status: OK PackageFile: lineagespot_1.4.0.tar.gz PackageFileSize: 718.6 KiB