Package: limma Version: 3.56.2 Command: rm -rf limma.buildbin-libdir && mkdir limma.buildbin-libdir && F:\biocbuild\bbs-3.17-bioc\R\bin\R.exe CMD INSTALL --build --library=limma.buildbin-libdir limma_3.56.2.tar.gz StartedAt: 2023-10-16 09:00:16 -0400 (Mon, 16 Oct 2023) EndedAt: 2023-10-16 09:00:52 -0400 (Mon, 16 Oct 2023) EllapsedTime: 35.9 seconds RetCode: 0 Status: OK PackageFile: limma_3.56.2.zip PackageFileSize: 2.735 MiB