Package: limma Version: 3.56.2 Command: /home/biocbuild/bbs-3.17-bioc/R/bin/R CMD INSTALL limma StartedAt: 2023-10-15 15:09:45 -0400 (Sun, 15 Oct 2023) EndedAt: 2023-10-15 15:10:03 -0400 (Sun, 15 Oct 2023) EllapsedTime: 18.6 seconds RetCode: 0 Status: OK