Package: limma Version: 3.56.2 Command: /home/biocbuild/bbs-3.17-bioc/R/bin/R CMD check --install=check:limma.install-out.txt --library=/home/biocbuild/bbs-3.17-bioc/R/site-library --timings limma_3.56.2.tar.gz StartedAt: 2023-10-15 22:22:18 -0400 (Sun, 15 Oct 2023) EndedAt: 2023-10-15 22:23:35 -0400 (Sun, 15 Oct 2023) EllapsedTime: 76.5 seconds RetCode: 0 Status: OK CheckDir: limma.Rcheck Warnings: 0