Package: limma Version: 3.56.2 Command: /home/biocbuild/bbs-3.17-bioc/R/bin/R CMD build --keep-empty-dirs --no-resave-data limma StartedAt: 2023-10-15 17:15:29 -0400 (Sun, 15 Oct 2023) EndedAt: 2023-10-15 17:15:47 -0400 (Sun, 15 Oct 2023) EllapsedTime: 17.8 seconds RetCode: 0 Status: OK PackageFile: limma_3.56.2.tar.gz PackageFileSize: 1.445 MiB