Package: limma Version: 3.56.2 Command: /Library/Frameworks/R.framework/Resources/bin/R CMD INSTALL limma StartedAt: 2023-10-15 15:07:51 -0400 (Sun, 15 Oct 2023) EndedAt: 2023-10-15 15:08:32 -0400 (Sun, 15 Oct 2023) EllapsedTime: 40.6 seconds RetCode: 0 Status: OK