Package: lfa Version: 2.0.11 Command: F:\biocbuild\bbs-3.17-bioc\R\bin\R.exe CMD check --no-multiarch --install=check:lfa.install-out.txt --library=F:\biocbuild\bbs-3.17-bioc\R\library --no-vignettes --timings lfa_2.0.11.tar.gz StartedAt: 2023-10-16 03:30:34 -0400 (Mon, 16 Oct 2023) EndedAt: 2023-10-16 03:31:19 -0400 (Mon, 16 Oct 2023) EllapsedTime: 44.9 seconds RetCode: 0 Status: OK CheckDir: lfa.Rcheck Warnings: 0