Package: lfa Version: 2.0.11 Command: chmod a+r lfa -R && F:\biocbuild\bbs-3.17-bioc\R\bin\R.exe CMD build --keep-empty-dirs --no-resave-data lfa StartedAt: 2023-10-15 20:05:09 -0400 (Sun, 15 Oct 2023) EndedAt: 2023-10-15 20:05:27 -0400 (Sun, 15 Oct 2023) EllapsedTime: 18.1 seconds RetCode: 0 Status: OK PackageFile: lfa_2.0.11.tar.gz PackageFileSize: 342.1 KiB