Package: lfa Version: 2.0.11 Command: /Library/Frameworks/R.framework/Resources/bin/R CMD check --install=check:lfa.install-out.txt --library=/Library/Frameworks/R.framework/Resources/library --no-vignettes --timings lfa_2.0.11.tar.gz StartedAt: 2023-10-16 03:13:22 -0400 (Mon, 16 Oct 2023) EndedAt: 2023-10-16 03:14:59 -0400 (Mon, 16 Oct 2023) EllapsedTime: 97.0 seconds RetCode: 0 Status: OK CheckDir: lfa.Rcheck Warnings: 0