Package: lfa Version: 2.0.11 Command: /Library/Frameworks/R.framework/Resources/bin/R CMD build --keep-empty-dirs --no-resave-data lfa StartedAt: 2023-10-15 19:09:09 -0400 (Sun, 15 Oct 2023) EndedAt: 2023-10-15 19:09:38 -0400 (Sun, 15 Oct 2023) EllapsedTime: 29.0 seconds RetCode: 0 Status: OK PackageFile: lfa_2.0.11.tar.gz PackageFileSize: 341.3 KiB