Package: levi Version: 1.18.0 Command: rm -rf levi.buildbin-libdir && mkdir levi.buildbin-libdir && F:\biocbuild\bbs-3.17-bioc\R\bin\R.exe CMD INSTALL --build --library=levi.buildbin-libdir levi_1.18.0.tar.gz StartedAt: 2023-10-16 09:00:13 -0400 (Mon, 16 Oct 2023) EndedAt: 2023-10-16 09:00:49 -0400 (Mon, 16 Oct 2023) EllapsedTime: 35.8 seconds RetCode: 0 Status: OK PackageFile: levi_1.18.0.zip PackageFileSize: 2.571 MiB