Package: levi Version: 1.18.0 Command: /home/biocbuild/bbs-3.17-bioc/R/bin/R CMD INSTALL levi StartedAt: 2023-10-15 15:32:28 -0400 (Sun, 15 Oct 2023) EndedAt: 2023-10-15 15:32:50 -0400 (Sun, 15 Oct 2023) EllapsedTime: 21.9 seconds RetCode: 0 Status: OK