Package: levi Version: 1.18.0 Command: /home/biocbuild/bbs-3.17-bioc/R/bin/R CMD check --install=check:levi.install-out.txt --library=/home/biocbuild/bbs-3.17-bioc/R/site-library --timings levi_1.18.0.tar.gz StartedAt: 2023-10-15 22:21:55 -0400 (Sun, 15 Oct 2023) EndedAt: 2023-10-15 22:24:17 -0400 (Sun, 15 Oct 2023) EllapsedTime: 141.9 seconds RetCode: 0 Status: OK CheckDir: levi.Rcheck Warnings: 0