Package: levi Version: 1.18.0 Command: /home/biocbuild/bbs-3.17-bioc/R/bin/R CMD build --keep-empty-dirs --no-resave-data levi StartedAt: 2023-10-15 17:15:16 -0400 (Sun, 15 Oct 2023) EndedAt: 2023-10-15 17:17:00 -0400 (Sun, 15 Oct 2023) EllapsedTime: 104.5 seconds RetCode: 0 Status: OK PackageFile: levi_1.18.0.tar.gz PackageFileSize: 2.758 MiB