Package: les Version: 1.50.0 Command: F:\biocbuild\bbs-3.17-bioc\R\bin\R.exe CMD check --no-multiarch --install=check:les.install-out.txt --library=F:\biocbuild\bbs-3.17-bioc\R\library --no-vignettes --timings les_1.50.0.tar.gz StartedAt: 2023-10-16 03:30:03 -0400 (Mon, 16 Oct 2023) EndedAt: 2023-10-16 03:30:54 -0400 (Mon, 16 Oct 2023) EllapsedTime: 51.2 seconds RetCode: 0 Status: OK CheckDir: les.Rcheck Warnings: 0