Package: les Version: 1.50.0 Command: rm -rf les.buildbin-libdir && mkdir les.buildbin-libdir && F:\biocbuild\bbs-3.17-bioc\R\bin\R.exe CMD INSTALL --build --library=les.buildbin-libdir les_1.50.0.tar.gz StartedAt: 2023-10-16 09:00:12 -0400 (Mon, 16 Oct 2023) EndedAt: 2023-10-16 09:00:19 -0400 (Mon, 16 Oct 2023) EllapsedTime: 7.7 seconds RetCode: 0 Status: OK PackageFile: les_1.50.0.zip PackageFileSize: 566.2 KiB