Package: les Version: 1.50.0 Command: /home/biocbuild/bbs-3.17-bioc/R/bin/R CMD build --keep-empty-dirs --no-resave-data les StartedAt: 2023-10-15 17:15:16 -0400 (Sun, 15 Oct 2023) EndedAt: 2023-10-15 17:15:31 -0400 (Sun, 15 Oct 2023) EllapsedTime: 15.5 seconds RetCode: 0 Status: OK PackageFile: les_1.50.0.tar.gz PackageFileSize: 343 KiB