Package: les Version: 1.50.0 Command: /Library/Frameworks/R.framework/Resources/bin/R CMD build --keep-empty-dirs --no-resave-data les StartedAt: 2023-10-15 19:09:08 -0400 (Sun, 15 Oct 2023) EndedAt: 2023-10-15 19:10:00 -0400 (Sun, 15 Oct 2023) EllapsedTime: 52.7 seconds RetCode: 0 Status: OK PackageFile: les_1.50.0.tar.gz PackageFileSize: 449.3 KiB