Package: lefser Version: 1.10.1 Command: /home/biocbuild/bbs-3.17-bioc/R/bin/R CMD build --keep-empty-dirs --no-resave-data lefser StartedAt: 2023-10-15 17:15:12 -0400 (Sun, 15 Oct 2023) EndedAt: 2023-10-15 17:15:52 -0400 (Sun, 15 Oct 2023) EllapsedTime: 39.4 seconds RetCode: 0 Status: OK PackageFile: lefser_1.10.1.tar.gz PackageFileSize: 634.2 KiB