Package: lefser Version: 1.10.1 Command: /Library/Frameworks/R.framework/Resources/bin/R CMD check --install=check:lefser.install-out.txt --library=/Library/Frameworks/R.framework/Resources/library --no-vignettes --timings lefser_1.10.1.tar.gz StartedAt: 2023-10-16 03:11:44 -0400 (Mon, 16 Oct 2023) EndedAt: 2023-10-16 03:19:59 -0400 (Mon, 16 Oct 2023) EllapsedTime: 495.1 seconds RetCode: 0 Status: OK CheckDir: lefser.Rcheck Warnings: 0