Package: lefser Version: 1.10.1 Command: /Library/Frameworks/R.framework/Resources/bin/R CMD build --keep-empty-dirs --no-resave-data lefser StartedAt: 2023-10-15 19:08:56 -0400 (Sun, 15 Oct 2023) EndedAt: 2023-10-15 19:10:40 -0400 (Sun, 15 Oct 2023) EllapsedTime: 104.6 seconds RetCode: 0 Status: OK PackageFile: lefser_1.10.1.tar.gz PackageFileSize: 645.8 KiB