Package: lapmix Version: 1.66.0 Command: /home/biocbuild/bbs-3.17-bioc/R/bin/R CMD build --keep-empty-dirs --no-resave-data lapmix StartedAt: 2023-10-15 17:14:59 -0400 (Sun, 15 Oct 2023) EndedAt: 2023-10-15 17:15:05 -0400 (Sun, 15 Oct 2023) EllapsedTime: 6.3 seconds RetCode: 0 Status: OK PackageFile: lapmix_1.66.0.tar.gz PackageFileSize: 245.4 KiB