Package: kebabs Version: 1.34.0 Command: F:\biocbuild\bbs-3.17-bioc\R\bin\R.exe CMD INSTALL kebabs StartedAt: 2023-10-15 15:56:45 -0400 (Sun, 15 Oct 2023) EndedAt: 2023-10-15 15:59:22 -0400 (Sun, 15 Oct 2023) EllapsedTime: 156.4 seconds RetCode: 0 Status: OK