Package: kebabs Version: 1.34.0 Command: /home/biocbuild/bbs-3.17-bioc/R/bin/R CMD INSTALL kebabs StartedAt: 2023-10-15 15:11:21 -0400 (Sun, 15 Oct 2023) EndedAt: 2023-10-15 15:13:08 -0400 (Sun, 15 Oct 2023) EllapsedTime: 107.2 seconds RetCode: 0 Status: OK