Package: kebabs Version: 1.34.0 Command: /home/biocbuild/bbs-3.17-bioc/R/bin/R CMD build --keep-empty-dirs --no-resave-data kebabs StartedAt: 2023-10-15 17:14:15 -0400 (Sun, 15 Oct 2023) EndedAt: 2023-10-15 17:20:52 -0400 (Sun, 15 Oct 2023) EllapsedTime: 397.2 seconds RetCode: 0 Status: OK PackageFile: kebabs_1.34.0.tar.gz PackageFileSize: 2.297 MiB