Package: kebabs Version: 1.34.0 Command: /Library/Frameworks/R.framework/Resources/bin/R CMD INSTALL kebabs StartedAt: 2023-10-15 15:12:43 -0400 (Sun, 15 Oct 2023) EndedAt: 2023-10-15 15:18:37 -0400 (Sun, 15 Oct 2023) EllapsedTime: 353.8 seconds RetCode: 0 Status: OK