Package: kebabs Version: 1.34.0 Command: /Library/Frameworks/R.framework/Resources/bin/R CMD build --keep-empty-dirs --no-resave-data kebabs StartedAt: 2023-10-15 19:07:16 -0400 (Sun, 15 Oct 2023) EndedAt: 2023-10-15 19:20:34 -0400 (Sun, 15 Oct 2023) EllapsedTime: 798.2 seconds RetCode: 0 Status: OK PackageFile: kebabs_1.34.0.tar.gz PackageFileSize: 2.376 MiB