Package: kebabs Version: 1.34.0 Command: rm -rf kebabs.buildbin-libdir && mkdir kebabs.buildbin-libdir && /Users/biocbuild/BBS/utils/build-universal.sh kebabs_1.34.0.tar.gz /Library/Frameworks/R.framework/Resources/bin/R kebabs.buildbin-libdir StartedAt: 2023-10-16 09:37:03 -0400 (Mon, 16 Oct 2023) EndedAt: 2023-10-16 09:43:19 -0400 (Mon, 16 Oct 2023) EllapsedTime: 375.8 seconds RetCode: 0 Status: OK PackageFile: kebabs_1.34.0.tgz PackageFileSize: 3.726 MiB