Package: katdetectr Version: 1.2.0 Command: chmod a+r katdetectr -R && F:\biocbuild\bbs-3.17-bioc\R\bin\R.exe CMD build --keep-empty-dirs --no-resave-data katdetectr StartedAt: 2023-10-15 20:03:06 -0400 (Sun, 15 Oct 2023) EndedAt: 2023-10-15 20:04:50 -0400 (Sun, 15 Oct 2023) EllapsedTime: 104.3 seconds RetCode: 0 Status: OK PackageFile: katdetectr_1.2.0.tar.gz PackageFileSize: 597.7 KiB