Package: katdetectr Version: 1.2.0 Command: rm -rf katdetectr.buildbin-libdir && mkdir katdetectr.buildbin-libdir && F:\biocbuild\bbs-3.17-bioc\R\bin\R.exe CMD INSTALL --build --library=katdetectr.buildbin-libdir katdetectr_1.2.0.tar.gz StartedAt: 2023-10-16 08:59:28 -0400 (Mon, 16 Oct 2023) EndedAt: 2023-10-16 09:00:47 -0400 (Mon, 16 Oct 2023) EllapsedTime: 79.3 seconds RetCode: 0 Status: OK PackageFile: katdetectr_1.2.0.zip PackageFileSize: 938.1 KiB