Package: katdetectr Version: 1.2.0 Command: /home/biocbuild/bbs-3.17-bioc/R/bin/R CMD INSTALL katdetectr StartedAt: 2023-10-15 15:39:02 -0400 (Sun, 15 Oct 2023) EndedAt: 2023-10-15 15:39:44 -0400 (Sun, 15 Oct 2023) EllapsedTime: 41.9 seconds RetCode: 0 Status: OK