Package: karyoploteR Version: 1.26.0 Command: F:\biocbuild\bbs-3.17-bioc\R\bin\R.exe CMD INSTALL karyoploteR StartedAt: 2023-10-15 16:25:43 -0400 (Sun, 15 Oct 2023) EndedAt: 2023-10-15 16:26:39 -0400 (Sun, 15 Oct 2023) EllapsedTime: 56.0 seconds RetCode: 0 Status: OK