Package: karyoploteR Version: 1.26.0 Command: /home/biocbuild/bbs-3.17-bioc/R/bin/R CMD check --install=check:karyoploteR.install-out.txt --library=/home/biocbuild/bbs-3.17-bioc/R/site-library --timings karyoploteR_1.26.0.tar.gz StartedAt: 2023-10-15 22:18:16 -0400 (Sun, 15 Oct 2023) EndedAt: 2023-10-15 22:26:35 -0400 (Sun, 15 Oct 2023) EllapsedTime: 498.2 seconds RetCode: 0 Status: OK CheckDir: karyoploteR.Rcheck Warnings: 0