Package: ivygapSE Version: 1.22.1 Command: chmod a+r ivygapSE -R && F:\biocbuild\bbs-3.17-bioc\R\bin\R.exe CMD build --keep-empty-dirs --no-resave-data ivygapSE StartedAt: 2023-10-15 20:02:43 -0400 (Sun, 15 Oct 2023) EndedAt: 2023-10-15 20:04:53 -0400 (Sun, 15 Oct 2023) EllapsedTime: 129.1 seconds RetCode: 0 Status: OK PackageFile: ivygapSE_1.22.1.tar.gz PackageFileSize: 15.28 MiB