Package: ivygapSE Version: 1.22.1 Command: rm -rf ivygapSE.buildbin-libdir && mkdir ivygapSE.buildbin-libdir && F:\biocbuild\bbs-3.17-bioc\R\bin\R.exe CMD INSTALL --build --library=ivygapSE.buildbin-libdir ivygapSE_1.22.1.tar.gz StartedAt: 2023-10-16 08:59:23 -0400 (Mon, 16 Oct 2023) EndedAt: 2023-10-16 08:59:57 -0400 (Mon, 16 Oct 2023) EllapsedTime: 33.8 seconds RetCode: 0 Status: OK PackageFile: ivygapSE_1.22.1.zip PackageFileSize: 15.31 MiB