Package: ivygapSE Version: 1.22.1 Command: /home/biocbuild/bbs-3.17-bioc/R/bin/R CMD check --install=check:ivygapSE.install-out.txt --library=/home/biocbuild/bbs-3.17-bioc/R/site-library --timings ivygapSE_1.22.1.tar.gz StartedAt: 2023-10-15 22:18:02 -0400 (Sun, 15 Oct 2023) EndedAt: 2023-10-15 22:22:53 -0400 (Sun, 15 Oct 2023) EllapsedTime: 291.1 seconds RetCode: 0 Status: OK CheckDir: ivygapSE.Rcheck Warnings: 0