Package: iterativeBMAsurv Version: 1.58.0 Command: rm -rf iterativeBMAsurv.buildbin-libdir && mkdir iterativeBMAsurv.buildbin-libdir && /Users/biocbuild/BBS/utils/build-universal.sh iterativeBMAsurv_1.58.0.tar.gz /Library/Frameworks/R.framework/Resources/bin/R iterativeBMAsurv.buildbin-libdir StartedAt: 2023-10-16 09:36:51 -0400 (Mon, 16 Oct 2023) EndedAt: 2023-10-16 09:37:13 -0400 (Mon, 16 Oct 2023) EllapsedTime: 22.2 seconds RetCode: 0 Status: OK PackageFile: iterativeBMAsurv_1.58.0.tgz PackageFileSize: 272.9 KiB