Package: iterativeBMA Version: 1.58.0 Command: chmod a+r iterativeBMA -R && F:\biocbuild\bbs-3.17-bioc\R\bin\R.exe CMD build --keep-empty-dirs --no-resave-data iterativeBMA StartedAt: 2023-10-15 20:02:13 -0400 (Sun, 15 Oct 2023) EndedAt: 2023-10-15 20:02:35 -0400 (Sun, 15 Oct 2023) EllapsedTime: 21.7 seconds RetCode: 0 Status: OK PackageFile: iterativeBMA_1.58.0.tar.gz PackageFileSize: 159.8 KiB