Package: iterativeBMA Version: 1.58.0 Command: rm -rf iterativeBMA.buildbin-libdir && mkdir iterativeBMA.buildbin-libdir && F:\biocbuild\bbs-3.17-bioc\R\bin\R.exe CMD INSTALL --build --library=iterativeBMA.buildbin-libdir iterativeBMA_1.58.0.tar.gz StartedAt: 2023-10-16 08:59:16 -0400 (Mon, 16 Oct 2023) EndedAt: 2023-10-16 08:59:26 -0400 (Mon, 16 Oct 2023) EllapsedTime: 10.5 seconds RetCode: 0 Status: OK PackageFile: iterativeBMA_1.58.0.zip PackageFileSize: 219 KiB