Package: iterativeBMA Version: 1.58.0 Command: /home/biocbuild/bbs-3.17-bioc/R/bin/R CMD check --install=check:iterativeBMA.install-out.txt --library=/home/biocbuild/bbs-3.17-bioc/R/site-library --timings iterativeBMA_1.58.0.tar.gz StartedAt: 2023-10-15 22:17:41 -0400 (Sun, 15 Oct 2023) EndedAt: 2023-10-15 22:18:35 -0400 (Sun, 15 Oct 2023) EllapsedTime: 53.3 seconds RetCode: 0 Status: OK CheckDir: iterativeBMA.Rcheck Warnings: 0