Package: iterativeBMA Version: 1.58.0 Command: /home/biocbuild/bbs-3.17-bioc/R/bin/R CMD build --keep-empty-dirs --no-resave-data iterativeBMA StartedAt: 2023-10-15 17:13:37 -0400 (Sun, 15 Oct 2023) EndedAt: 2023-10-15 17:13:52 -0400 (Sun, 15 Oct 2023) EllapsedTime: 14.9 seconds RetCode: 0 Status: OK PackageFile: iterativeBMA_1.58.0.tar.gz PackageFileSize: 159 KiB